BEGIN:VCALENDAR
VERSION:2.0
PRODID:-//The British University in Egypt - ECPv4.6.26//NONSGML v1.0//EN
CALSCALE:GREGORIAN
METHOD:PUBLISH
X-WR-CALNAME:The British University in Egypt
X-ORIGINAL-URL:https://old.bue.edu.eg
X-WR-CALDESC:Events for The British University in Egypt
BEGIN:VEVENT
DTSTART;TZID=UTC+0:20200726T180000
DTEND;TZID=UTC+0:20200726T193000
DTSTAMP:20260419T125847
CREATED:20200725T205045Z
LAST-MODIFIED:20200725T205740Z
UID:26431-1595786400-1595791800@old.bue.edu.eg
SUMMARY:Quarantine Media & Film Festival 2020
DESCRIPTION: \nFaculty of Communication and Mass Media at the British University in Egypt holds the closing of the First Virtual Media and Cinema Festival “Quarantine 2020”. \nThe Faculty of Communication and Mass Media at the BUE will hold the closing of the First virtual Festival under the name of ” Quarantine 2020″ on Sunday\, the 26th of July 2020. \n  \nAround 374 contestants from all over Egypt and the Worldwide have taken part in this Festival\, the names of 12 winners will be announced according to the following categories: Cinema\, Documentary\, Podcast\, and Advertisement. \n\nThe juries will include many reputable celebrities in the Media and film making industry like: \nMrs. Esaad Younis\, Mrs. Nehal Ambar\, the great Novelist Ibrahim Abdel Majid\, the Director Hany lashin\, the Film Critic Tarek el Shennawi\, the Media Professional and TV presenter Mr. Gamal al Shaer\, and the Head of Cinema Syndicate\, Mr. Mosaad Fouda. \nBest of luck to all the contestants. \nThe closing ceremony takes place via Zoom app\, and live broadcast via Facebook\, so participants from all over the world and the public audience can follow through the following links: \nhttps://zoom.us/j/96270955899 \nhttps://www.facebook.com/QMFF2020/. \n  \n\n
URL:https://old.bue.edu.eg/event/quarantine-media-film-festival-2020/
ATTACH;FMTTYPE=image/jpeg:https://old.bue.edu.eg/wp-content/uploads/2020/07/Film-Festival-2020.jpg
END:VEVENT
END:VCALENDAR